BEGIN:VCALENDAR
VERSION:2.0
PRODID:-//Magician David Ranalli - ECPv6.15.20//NONSGML v1.0//EN
CALSCALE:GREGORIAN
METHOD:PUBLISH
X-ORIGINAL-URL:https://davidranalli.com
X-WR-CALDESC:Events for Magician David Ranalli
REFRESH-INTERVAL;VALUE=DURATION:PT1H
X-Robots-Tag:noindex
X-PUBLISHED-TTL:PT1H
BEGIN:VTIMEZONE
TZID:America/Indiana/Indianapolis
BEGIN:DAYLIGHT
TZOFFSETFROM:-0500
TZOFFSETTO:-0400
TZNAME:EDT
DTSTART:20220313T070000
END:DAYLIGHT
BEGIN:STANDARD
TZOFFSETFROM:-0400
TZOFFSETTO:-0500
TZNAME:EST
DTSTART:20221106T060000
END:STANDARD
BEGIN:DAYLIGHT
TZOFFSETFROM:-0500
TZOFFSETTO:-0400
TZNAME:EDT
DTSTART:20230312T070000
END:DAYLIGHT
BEGIN:STANDARD
TZOFFSETFROM:-0400
TZOFFSETTO:-0500
TZNAME:EST
DTSTART:20231105T060000
END:STANDARD
BEGIN:DAYLIGHT
TZOFFSETFROM:-0500
TZOFFSETTO:-0400
TZNAME:EDT
DTSTART:20240310T070000
END:DAYLIGHT
BEGIN:STANDARD
TZOFFSETFROM:-0400
TZOFFSETTO:-0500
TZNAME:EST
DTSTART:20241103T060000
END:STANDARD
END:VTIMEZONE
BEGIN:VEVENT
DTSTART;TZID=America/Indiana/Indianapolis:20230622T193000
DTEND;TZID=America/Indiana/Indianapolis:20230622T203000
DTSTAMP:20260420T080916
CREATED:20230322T143456Z
LAST-MODIFIED:20230406T165649Z
UID:10000031-1687462200-1687465800@davidranalli.com
SUMMARY:DECEPTION: An Evening of Magic & Lies
DESCRIPTION:Doors at 5:30pm\, Show starts at 7:30pm\n$25/guest Food & Beverage Minimum\nCabaret Seating – All seats at the table are for sale. Buying one seat does NOT secure the table.\nCabaret Service – It is recommended that you arrive early if you wish to have dinner\, as dinner is served from 5:30pm – 7:30pm\, once the show has begun options are limited to drinks and dessert.\n\nDECEPTION is a magic & mind reading show\, hosted by magician David Ranalli. \nDavid creates an unforgettable evening by combining world-class sleight of hand\, witty banter\, and mysteries of the mind. Guests are invited into an intimate\, industrial space where surprises lurk in every corner. \nPerfect as a date night\, group event\, and for the hardcore magic fan.
URL:https://davidranalli.com/event/deception-an-evening-of-magic-lies-29/
LOCATION:Feinstein’s at Hotel Carmichael\, 1 Carmichael Square\, Carmel\, IN\, 46032\, United States
CATEGORIES:TOUR,VIRTUAL
ATTACH;FMTTYPE=image/jpeg:https://davidranalli.com/wp-content/uploads/2023/03/59889510d5cab8b33272b4f61066ac97-1.jpg
END:VEVENT
END:VCALENDAR